BEGIN:VCALENDAR
VERSION:2.0
PRODID:-//Michigan District, LCMS - ECPv6.9.1//NONSGML v1.0//EN
CALSCALE:GREGORIAN
METHOD:PUBLISH
X-ORIGINAL-URL:https://michigandistrict.org
X-WR-CALDESC:Events for Michigan District, LCMS
REFRESH-INTERVAL;VALUE=DURATION:PT1H
X-Robots-Tag:noindex
X-PUBLISHED-TTL:PT1H
BEGIN:VTIMEZONE
TZID:America/Detroit
BEGIN:DAYLIGHT
TZOFFSETFROM:-0500
TZOFFSETTO:-0400
TZNAME:EDT
DTSTART:20260308T070000
END:DAYLIGHT
BEGIN:STANDARD
TZOFFSETFROM:-0400
TZOFFSETTO:-0500
TZNAME:EST
DTSTART:20261101T060000
END:STANDARD
END:VTIMEZONE
BEGIN:VEVENT
DTSTART;VALUE=DATE:20260205
DTEND;VALUE=DATE:20260207
DTSTAMP:20260422T090207
CREATED:20251002T141038Z
LAST-MODIFIED:20260203T210337Z
UID:10000894-1770249600-1770422399@michigandistrict.org
SUMMARY:Snow Tire 2026
DESCRIPTION:It is that time of year for our annual Snow Tire Conference. We will again be in Frankenmuth at the Bavarian Inn Lodge. You will find the usual agenda items\, and this year we will be having an engaging discussion on Friday\, learning from two new books dealing with this question: How do we as school leaders best coach/mentor/lead the young educators (next generation) serving in our Lutheran schools and early childhood centers? We look forward to a blessed time together\, being refreshed through fellowship and growing through conversation with colleagues.
URL:https://michigandistrict.org/event/snow-tire-2026/
LOCATION:Bavarian Inn Lodge\, 1 Covered Bridge Lane\, Frankenmuth\, MI\, 48734\, United States
CATEGORIES:Conference,Gathering
ATTACH;FMTTYPE=image/jpeg:https://michigandistrict.org/wp-content/uploads/2022/11/Snowtire2023_Website2.jpg
END:VEVENT
END:VCALENDAR